BEGIN:VCALENDAR
VERSION:2.0
PRODID:-//eriebenedictines.org//NONSGML kigkonsult.se iCalcreator 2.30.10//
CALSCALE:GREGORIAN
METHOD:PUBLISH
UID:7c384e51-201b-4d84-80ea-3b0141eaeb83
X-WR-CALDESC:Anne McCarthy\, OSB will present a webinar through John Dear’s
  The Beatitudes Center for Christian Nonviolence\, on the teachings of Mar
 y Lou Kownacki\, OSB\, the poet\, activist\, and founder of Benedictines f
 or Peace who died in 2023. For a registration fee of $30\, learn about her
  spirituality of nonviolence\, which was not overly pious\, but seriously 
 practical. Her Benedictine monasticism flavored her approach to nonviolenc
 e so that her pursuit of nonviolence led to new projects\, programs\, move
 ments and visions that brought beauty and hope to the lives of children an
 d to deserted places.
X-WR-RELCALID:9b5e8359dd92559e6f8dcaa489941b96
X-WR-TIMEZONE:America/New_York
BEGIN:VTIMEZONE
TZID:America/New_York
BEGIN:STANDARD
TZNAME:EST
DTSTART:20231105T020000
TZOFFSETFROM:-0400
TZOFFSETTO:-0500
RDATE:20241103T020000
RDATE:20251102T020000
END:STANDARD
BEGIN:DAYLIGHT
TZNAME:EDT
DTSTART:20240310T020000
TZOFFSETFROM:-0500
TZOFFSETTO:-0400
RDATE:20250309T020000
END:DAYLIGHT
END:VTIMEZONE
BEGIN:VEVENT
UID:c3039c63-e37e-49fa-ae73-dfc0c611beb6
DTSTAMP:20260420T063737Z
DESCRIPTION:Anne McCarthy\, OSB will present a webinar through John Dear’s 
 The Beatitudes Center for Christian Nonviolence\, on the teachings of Mary
  Lou Kownacki\, OSB\, the poet\, activist\, and founder of Benedictines fo
 r Peace who died in 2023. For a registration fee of $30\, learn about her 
 spirituality of nonviolence\, which was not overly pious\, but seriously p
 ractical. Her Benedictine monasticism flavored her approach to nonviolence
  so that her pursuit of nonviolence led to new projects\, programs\, movem
 ents and visions that brought beauty and hope to the lives of children and
  to deserted places.
DTSTART;TZID=America/New_York:20240713T140000
DTEND;TZID=America/New_York:20240713T150000
LOCATION:https://beatitudescenter.org/programs/?mc_cid=3f0caa1273&mc_eid=2a
 d3763a1d#july13-2024
SUMMARY:Webinar: Mary Lou Kownacki's Spirituality of Nonviolence
END:VEVENT
END:VCALENDAR
