BEGIN:VCALENDAR
VERSION:2.0
PRODID:-//eriebenedictines.org//NONSGML kigkonsult.se iCalcreator 2.30.10//
CALSCALE:GREGORIAN
METHOD:PUBLISH
UID:3bc4029e-06ea-479f-b838-9b23ad4fa268
X-WR-CALDESC:Erie Benedictine Sister Joan Chittister and Liz Cheney will op
 en the Jefferson Educational Society's Global Summit XVI on October 17. Li
 z Cheney\, former U.S. representative for Wyoming and chair of the House R
 epublican Conference\, served as the Vice Chair of the Select Committee to
  Investigate the January 6th Attack on the United States Capitol. Her inte
 grity in standing by the constitution and confronting then-President Donal
 d Trump for his role in  attempting to block the confirmation of the 2020 
 election and inciting the January 6 insurrection cost her her leadership p
 ositions. Her memoir\, Oath and Honor\, was published in 2023.\n\nSister J
 oan is a prolific author and lectures world wide. She writes and speaks on
  women in church and society\, human rights\, peace and justice especially
  in the areas of war and poverty\, and religious life and spirituality. Sh
 e is co-chair of the Global Peace Initiative of Women\, a UN-sponsored org
 anization creating a worldwide network of women peacemakers.
X-WR-RELCALID:f23bcbc03c18c99395ee74081d963ff7
X-WR-TIMEZONE:America/New_York
BEGIN:VTIMEZONE
TZID:America/New_York
BEGIN:STANDARD
TZNAME:EST
DTSTART:20231105T020000
TZOFFSETFROM:-0400
TZOFFSETTO:-0500
RDATE:20241103T020000
RDATE:20251102T020000
END:STANDARD
BEGIN:DAYLIGHT
TZNAME:EDT
DTSTART:20240310T020000
TZOFFSETFROM:-0500
TZOFFSETTO:-0400
RDATE:20250309T020000
RDATE:20260308T020000
END:DAYLIGHT
END:VTIMEZONE
BEGIN:VEVENT
UID:a10f66fe-4276-4ad5-a67e-5bbe12efb947
DTSTAMP:20260425T014405Z
DESCRIPTION:Erie Benedictine Sister Joan Chittister and Liz Cheney will ope
 n the Jefferson Educational Society's Global Summit XVI on October 17. Liz
  Cheney\, former U.S. representative for Wyoming and chair of the House Re
 publican Conference\, served as the Vice Chair of the Select Committee to 
 Investigate the January 6th Attack on the United States Capitol. Her integ
 rity in standing by the constitution and confronting then-President Donald
  Trump for his role in  attempting to block the confirmation of the 2020 e
 lection and inciting the January 6 insurrection cost her her leadership po
 sitions. Her memoir\, Oath and Honor\, was published in 2023.\n\nSister Jo
 an is a prolific author and lectures world wide. She writes and speaks on 
 women in church and society\, human rights\, peace and justice especially 
 in the areas of war and poverty\, and religious life and spirituality. She
  is co-chair of the Global Peace Initiative of Women\, a UN-sponsored orga
 nization creating a worldwide network of women peacemakers.
DTSTART;TZID=America/New_York:20241017T193000
DTEND;TZID=America/New_York:20241017T210000
LOCATION:Bayfront Convention Center\, 1 Sassafras Pier\, Erie\, PA 16507 US
SUMMARY:A Conversation with Liz Cheney and Sister Joan Chittister
END:VEVENT
END:VCALENDAR
