BEGIN:VCALENDAR
VERSION:2.0
PRODID:-//eriebenedictines.org//NONSGML kigkonsult.se iCalcreator 2.30.10//
CALSCALE:GREGORIAN
METHOD:PUBLISH
UID:cbd3b799-3b13-4ae6-8ad8-90a8219525cc
X-WR-CALDESC:Please join us in the monastery chapel for Advent Vigils each 
 Saturday during Advent\, November 30\, December 7\, 14\, and 21 at 7:00 p.
 m. December 7 we are also offering a monastery tour and dinner with the si
 sters. Please register using the link below if you'd like to join us for t
 he tour and dinner\n\nOn December 7 Katie Gordon\, Pax Priory Community\, 
 will offer reflections.
X-WR-RELCALID:82fa144ed5f46548f4737ce1e4547b4b
X-WR-TIMEZONE:America/New_York
BEGIN:VTIMEZONE
TZID:America/New_York
BEGIN:STANDARD
TZNAME:EST
DTSTART:20241103T020000
TZOFFSETFROM:-0400
TZOFFSETTO:-0500
RDATE:20251102T020000
END:STANDARD
BEGIN:DAYLIGHT
TZNAME:EDT
DTSTART:20240310T020000
TZOFFSETFROM:-0500
TZOFFSETTO:-0400
RDATE:20250309T020000
RDATE:20260308T020000
END:DAYLIGHT
END:VTIMEZONE
BEGIN:VEVENT
UID:cb5d9224-6390-4abe-9361-2f2924b35ff9
DTSTAMP:20260425T023803Z
DESCRIPTION:Please join us in the monastery chapel for Advent Vigils each S
 aturday during Advent\, November 30\, December 7\, 14\, and 21 at 7:00 p.m
 . December 7 we are also offering a monastery tour and dinner with the sis
 ters. Please register using the link below if you'd like to join us for th
 e tour and dinner\n\nOn December 7 Katie Gordon\, Pax Priory Community\, w
 ill offer reflections.
DTSTART;TZID=America/New_York:20241207T190000
DTEND;TZID=America/New_York:20241207T200000
LOCATION:Mount St Benedict Monastery Chapel\, 6101 East Lake Road\, Erie\, 
 PA 16511 US
SUMMARY:Advent Vigil Week Two
END:VEVENT
END:VCALENDAR
