BEGIN:VCALENDAR
VERSION:2.0
PRODID:-//eriebenedictines.org//NONSGML kigkonsult.se iCalcreator 2.30.10//
CALSCALE:GREGORIAN
METHOD:PUBLISH
UID:fc2f6197-75e6-4e13-a628-2c8e30fb1295
X-WR-CALDESC:
X-WR-RELCALID:4ba84e2e65c8166ca9a17b1e18636763
X-WR-TIMEZONE:America/New_York
BEGIN:VTIMEZONE
TZID:America/New_York
BEGIN:STANDARD
TZNAME:EST
DTSTART:20241103T020000
TZOFFSETFROM:-0400
TZOFFSETTO:-0500
RDATE:20251102T020000
END:STANDARD
BEGIN:DAYLIGHT
TZNAME:EDT
DTSTART:20240310T020000
TZOFFSETFROM:-0500
TZOFFSETTO:-0400
RDATE:20250309T020000
RDATE:20260308T020000
END:DAYLIGHT
END:VTIMEZONE
BEGIN:VEVENT
UID:ee8f4695-621e-424c-9173-cbf780608d33
DTSTAMP:20260421T080508Z
DESCRIPTION:
DTSTART;TZID=America/New_York:20250309T103000
DTEND;TZID=America/New_York:20250309T120000
LOCATION:Mount Saint Benedict Monastery
SUMMARY:Chapter 57 OPEN
END:VEVENT
END:VCALENDAR
