BEGIN:VCALENDAR
VERSION:2.0
PRODID:-//eriebenedictines.org//NONSGML kigkonsult.se iCalcreator 2.30.10//
CALSCALE:GREGORIAN
METHOD:PUBLISH
UID:cbe85892-7962-4b04-8a2a-92c944cb3b79
X-WR-CALDESC:<b>Antiphon (mantra) repeat quietly:</b>\nGreat is God’s love\
 , faithful for all eternity. Alleluia\n\n<b>Psalm 119 (Yod)</b>\nO God\, y
 ou made me and fashioned me\;\nhelp me discern your will.\nYour faithful w
 ill see me and rejoice\,\nfor I trust in your word.\n\nI know that your ju
 dgments are wise\,\nthat you afflicted me justly.\n\nLet your love comfort
  me\naccording to your promise.\nBe compassionate that I may live\,\nfor y
 our law is my delight.\nFor following your precepts\nI am oppressed by the
  proud.\nBring shame upon them.\nLet your faithful turn to me.\nMay my hea
 rt be blameless in your sight.\n\nPray the Prayer of Jesus (Our Father)\n
 \nTranslation © 1998 Benedictine Sisters of Erie\, Inc.
X-WR-RELCALID:d61a1031fbb1b7a749efbda7f6103994
X-WR-TIMEZONE:America/New_York
BEGIN:VTIMEZONE
TZID:America/New_York
BEGIN:STANDARD
TZNAME:EST
DTSTART:20251102T020000
TZOFFSETFROM:-0400
TZOFFSETTO:-0500
RDATE:20261101T020000
END:STANDARD
BEGIN:DAYLIGHT
TZNAME:EDT
DTSTART:20260308T020000
TZOFFSETFROM:-0500
TZOFFSETTO:-0400
RDATE:20270314T020000
END:DAYLIGHT
END:VTIMEZONE
BEGIN:VEVENT
UID:8b2c466f-2d18-4d8e-b2fd-ebebc45634d8
DTSTAMP:20260421T023717Z
DESCRIPTION:<b>Antiphon (mantra) repeat quietly:</b>\nGreat is God’s love\,
  faithful for all eternity. Alleluia\n\n<b>Psalm 119 (Yod)</b>\nO God\, yo
 u made me and fashioned me\;\nhelp me discern your will.\nYour faithful wi
 ll see me and rejoice\,\nfor I trust in your word.\n\nI know that your jud
 gments are wise\,\nthat you afflicted me justly.\n\nLet your love comfort 
 me\naccording to your promise.\nBe compassionate that I may live\,\nfor yo
 ur law is my delight.\nFor following your precepts\nI am oppressed by the 
 proud.\nBring shame upon them.\nLet your faithful turn to me.\nMay my hear
 t be blameless in your sight.\n\nPray the Prayer of Jesus (Our Father)\n\n
 Translation © 1998 Benedictine Sisters of Erie\, Inc.
DTSTART;TZID=America/New_York:20260420T000000
DTEND;TZID=America/New_York:20260420T235900
LOCATION:
SUMMARY:Daily Prayer
END:VEVENT
END:VCALENDAR
