BEGIN:VCALENDAR
VERSION:2.0
PRODID:-//eriebenedictines.org//NONSGML kigkonsult.se iCalcreator 2.30.10//
CALSCALE:GREGORIAN
METHOD:PUBLISH
UID:1a3b0a31-d132-4206-b27e-fa5cee350ada
X-WR-CALDESC:St. Anselm\n\n<b>Antiphon (mantra) repeat quietly:</b>\nI crie
 d to you\, God\, and you heard me\; I proclaim your faithfulness. Alleluia
 \n\n<b>Psalm 48</b>\nGreat is the Creator\, worthy of all praise!\nLet the
  city of God rejoice.\n\nThe holy mountain\, beautiful where it rises\,\ni
 s the joy of all the earth.\n\nMount Zion\, center of the earth\,\nis the 
 dwelling place of God.\nIn the midst of the city is the Holy One\,\nthe st
 rength of all who enter there.\nInvaders assembled together\,\nintent on d
 estroying the city.\nWhen they saw the heights of Zion\,\nthey were terrif
 ied and fled in fear.\n\nIn the city which you uphold forever\,\nin this c
 ity we have seen anew\nyour great wonders of the past.\n\nIn your temple w
 e reflect on your love.\nYour praise reaches to the ends of the earth\;\ny
 ou extend your justice over all lands.\nJudah rejoices\;\nMount Zion is fu
 ll of joy.\n\nSo walk through Zion\,\nwalk all around it\;\ncount the numb
 er of its towers.\nConsider well all its walls.\nSee how strongly it is bu
 ilt.\n\nTell all those of future generations\nthat such is the God who sav
 es\,\nwho lives forever and always\,\nthe One who guides us in safe paths.
 \n\nPray the Prayer of Jesus (Our Father)\n\nTranslation © 1998 Benedictin
 e Sisters of Erie\, Inc.
X-WR-RELCALID:f95dd8add01a5405810adac38fa9a79c
X-WR-TIMEZONE:America/New_York
BEGIN:VTIMEZONE
TZID:America/New_York
BEGIN:STANDARD
TZNAME:EST
DTSTART:20251102T020000
TZOFFSETFROM:-0400
TZOFFSETTO:-0500
RDATE:20261101T020000
END:STANDARD
BEGIN:DAYLIGHT
TZNAME:EDT
DTSTART:20260308T020000
TZOFFSETFROM:-0500
TZOFFSETTO:-0400
RDATE:20270314T020000
END:DAYLIGHT
END:VTIMEZONE
BEGIN:VEVENT
UID:8aa879ce-2288-4299-a52d-fc699dba70b6
DTSTAMP:20260421T094752Z
DESCRIPTION:St. Anselm\n\n<b>Antiphon (mantra) repeat quietly:</b>\nI cried
  to you\, God\, and you heard me\; I proclaim your faithfulness. Alleluia
 \n\n<b>Psalm 48</b>\nGreat is the Creator\, worthy of all praise!\nLet the
  city of God rejoice.\n\nThe holy mountain\, beautiful where it rises\,\ni
 s the joy of all the earth.\n\nMount Zion\, center of the earth\,\nis the 
 dwelling place of God.\nIn the midst of the city is the Holy One\,\nthe st
 rength of all who enter there.\nInvaders assembled together\,\nintent on d
 estroying the city.\nWhen they saw the heights of Zion\,\nthey were terrif
 ied and fled in fear.\n\nIn the city which you uphold forever\,\nin this c
 ity we have seen anew\nyour great wonders of the past.\n\nIn your temple w
 e reflect on your love.\nYour praise reaches to the ends of the earth\;\ny
 ou extend your justice over all lands.\nJudah rejoices\;\nMount Zion is fu
 ll of joy.\n\nSo walk through Zion\,\nwalk all around it\;\ncount the numb
 er of its towers.\nConsider well all its walls.\nSee how strongly it is bu
 ilt.\n\nTell all those of future generations\nthat such is the God who sav
 es\,\nwho lives forever and always\,\nthe One who guides us in safe paths.
 \n\nPray the Prayer of Jesus (Our Father)\n\nTranslation © 1998 Benedictin
 e Sisters of Erie\, Inc.
DTSTART;TZID=America/New_York:20260421T000000
DTEND;TZID=America/New_York:20260421T235900
LOCATION:
SUMMARY:Daily Prayer
END:VEVENT
END:VCALENDAR
