BEGIN:VCALENDAR
VERSION:2.0
PRODID:-//eriebenedictines.org//NONSGML kigkonsult.se iCalcreator 2.30.10//
CALSCALE:GREGORIAN
METHOD:PUBLISH
UID:2934780e-0a34-447c-b71e-79ab4592d8ff
X-WR-CALDESC:Feast of St. Mark\n\n<b>Antiphon (mantra) repeat quietly:</b>
 \nThe apostles proclaimed what God has done for us\; they grasped the mean
 ing of God’s great deeds. Alleluia.\n\n<b>Psalm 128</b>\nBlest are you who
  honor God\nand walk in the ways of the Holy One!\n\nBy the labor of your 
 hands you shall eat.\nYou shall be happy and prosper\,\nyour spouse like a
  fruitful vine\nin the heart of your home\,\nyour children like shoots of 
 an olive tree\naround your table.\n\nSuch are your blessings\,\nyou who ho
 nor God.\n\nMay God’s blessings be yours\nall the days of your life!\nMay 
 you see your children’s children\nin a happy Jerusalem!\nOn Israel\, peace
 !\n\nPray the Prayer of Jesus (Our Father)\n\nTranslation © 1998 Benedicti
 ne Sisters of Erie\, Inc.
X-WR-RELCALID:a47d4a6f7db3837037c2cff9ee98aa19
X-WR-TIMEZONE:America/New_York
BEGIN:VTIMEZONE
TZID:America/New_York
BEGIN:STANDARD
TZNAME:EST
DTSTART:20251102T020000
TZOFFSETFROM:-0400
TZOFFSETTO:-0500
RDATE:20261101T020000
END:STANDARD
BEGIN:DAYLIGHT
TZNAME:EDT
DTSTART:20260308T020000
TZOFFSETFROM:-0500
TZOFFSETTO:-0400
RDATE:20270314T020000
END:DAYLIGHT
END:VTIMEZONE
BEGIN:VEVENT
UID:09874baf-5002-4ceb-9633-03658873362f
DTSTAMP:20260425T154724Z
DESCRIPTION:Feast of St. Mark\n\n<b>Antiphon (mantra) repeat quietly:</b>\n
 The apostles proclaimed what God has done for us\; they grasped the meanin
 g of God’s great deeds. Alleluia.\n\n<b>Psalm 128</b>\nBlest are you who h
 onor God\nand walk in the ways of the Holy One!\n\nBy the labor of your ha
 nds you shall eat.\nYou shall be happy and prosper\,\nyour spouse like a f
 ruitful vine\nin the heart of your home\,\nyour children like shoots of an
  olive tree\naround your table.\n\nSuch are your blessings\,\nyou who hono
 r God.\n\nMay God’s blessings be yours\nall the days of your life!\nMay yo
 u see your children’s children\nin a happy Jerusalem!\nOn Israel\, peace!
 \n\nPray the Prayer of Jesus (Our Father)\n\nTranslation © 1998 Benedictin
 e Sisters of Erie\, Inc.
DTSTART;TZID=America/New_York:20260425T000000
DTEND;TZID=America/New_York:20260425T235900
LOCATION:
SUMMARY:Daily Prayer
END:VEVENT
END:VCALENDAR
