BEGIN:VCALENDAR
VERSION:2.0
PRODID:-//eriebenedictines.org//NONSGML kigkonsult.se iCalcreator 2.30.10//
CALSCALE:GREGORIAN
METHOD:PUBLISH
UID:1218e286-a773-4dd9-af49-5d8a28bdb88e
X-WR-CALDESC:<i>If members are sent on some errand and expect to return to 
 the monastery that same day\, they must not presume to eat outside\, even 
 if they receive a pressing invitation\, unless perhaps the prioress or abb
 ot has ordered it. Should they act otherwise\, they will be excommunicated
 .</i>\n\nBenedictine spirituality\, this chapter implies\, is not a set of
  rules\; it is a way of life. Being out of the monastery does not relieve 
 the monastic of the obligation to be what we say we are-- simple\, centere
 d in God\, in search of higher things. What life demands from us is the si
 ngle-minded search for God\, not a series of vacations from our best selve
 s. The point is a clear one: being a religious is full-time identity\; bei
 ng business people does not give us the right to do during the week what w
 e tell ourselves on Sunday that we shun\; being American does not give us 
 the right to be less Christian in order to be more patriotic\; being rich 
 does not give us the right to forget the poor. No Christian ever has the r
 ight to be less than the Gospels demand of them wherever they are.
X-WR-RELCALID:a1c56a65cd51dfee01e24ff7e7f607e9
X-WR-TIMEZONE:America/New_York
BEGIN:VTIMEZONE
TZID:America/New_York
BEGIN:STANDARD
TZNAME:EST
DTSTART:20231105T020000
TZOFFSETFROM:-0400
TZOFFSETTO:-0500
RDATE:20241103T020000
RDATE:20251102T020000
END:STANDARD
BEGIN:DAYLIGHT
TZNAME:EDT
DTSTART:20240310T020000
TZOFFSETFROM:-0500
TZOFFSETTO:-0400
RDATE:20250309T020000
END:DAYLIGHT
END:VTIMEZONE
BEGIN:VEVENT
UID:d385f1e1-3adf-4dcf-9591-013c1c0aafe1
DTSTAMP:20260420T001543Z
DESCRIPTION:<i>If members are sent on some errand and expect to return to t
 he monastery that same day\, they must not presume to eat outside\, even i
 f they receive a pressing invitation\, unless perhaps the prioress or abbo
 t has ordered it. Should they act otherwise\, they will be excommunicated.
 </i>\n\nBenedictine spirituality\, this chapter implies\, is not a set of 
 rules\; it is a way of life. Being out of the monastery does not relieve t
 he monastic of the obligation to be what we say we are-- simple\, centered
  in God\, in search of higher things. What life demands from us is the sin
 gle-minded search for God\, not a series of vacations from our best selves
 . The point is a clear one: being a religious is full-time identity\; bein
 g business people does not give us the right to do during the week what we
  tell ourselves on Sunday that we shun\; being American does not give us t
 he right to be less Christian in order to be more patriotic\; being rich d
 oes not give us the right to forget the poor. No Christian ever has the ri
 ght to be less than the Gospels demand of them wherever they are.
DTSTART;TZID=America/New_York:20240802T000000
DTEND;TZID=America/New_York:20240802T235900
LOCATION:Chapter 51
SUMMARY:Members on a Short Journey
END:VEVENT
END:VCALENDAR
