BEGIN:VCALENDAR
VERSION:2.0
PRODID:-//eriebenedictines.org//NONSGML kigkonsult.se iCalcreator 2.30.10//
CALSCALE:GREGORIAN
METHOD:PUBLISH
UID:fa52da63-6d5a-4947-baed-ddf1f1ec3bf3
X-WR-CALDESC:<i>On the feasts of saints\, and indeed on all solemn festival
 s\, the Sunday order of celebrations is followed\, although the psalms\, r
 efrains and readings proper to the day itself are said. The procedure\, ho
 wever\, remains the same as indicated above.</i>\n\nThe meaning of this ch
 apter is not so much in its content as in its existence. The fact that it 
 is here at all in a document written when the identification of saints was
  largely a matter of public acclamation and then far fewer than they are n
 ow says something about Benedict's ideas both about church and the meaning
  of prayer. Benedict's theology of prayer is as much attuned to the Commun
 ion of Saints\, to our connectedness to those who have gone before us in t
 he faith\, to those who stand as sign to us that the Christian life is pos
 sible\, as it is to the feasts that mark the Paschal Mystery of Christ.\n
 \nWe all need heroes. We all need someone in our lives who brings courage.
  We all need to get to know how the Christian life looks at its best\, at 
 its most difficult\, at its most joyous.\n\nThe lesson is that we must kee
 p the human dimensions of the faith very much in mind and find in models f
 rom the past proof that daily chaos can be ordered and the ordinary transf
 igured for us\, too.
X-WR-RELCALID:303421e07648c0c0b266ca966b5ed0a9
X-WR-TIMEZONE:America/New_York
BEGIN:VTIMEZONE
TZID:America/New_York
BEGIN:STANDARD
TZNAME:EST
DTSTART:20251102T020000
TZOFFSETFROM:-0400
TZOFFSETTO:-0500
RDATE:20261101T020000
RDATE:20271107T020000
END:STANDARD
BEGIN:DAYLIGHT
TZNAME:EDT
DTSTART:20260308T020000
TZOFFSETFROM:-0500
TZOFFSETTO:-0400
RDATE:20270314T020000
END:DAYLIGHT
END:VTIMEZONE
BEGIN:VEVENT
UID:e781acae-b231-490e-8029-e66edf9031f4
DTSTAMP:20260421T094152Z
DESCRIPTION:<i>On the feasts of saints\, and indeed on all solemn festivals
 \, the Sunday order of celebrations is followed\, although the psalms\, re
 frains and readings proper to the day itself are said. The procedure\, how
 ever\, remains the same as indicated above.</i>\n\nThe meaning of this cha
 pter is not so much in its content as in its existence. The fact that it i
 s here at all in a document written when the identification of saints was 
 largely a matter of public acclamation and then far fewer than they are no
 w says something about Benedict's ideas both about church and the meaning 
 of prayer. Benedict's theology of prayer is as much attuned to the Communi
 on of Saints\, to our connectedness to those who have gone before us in th
 e faith\, to those who stand as sign to us that the Christian life is poss
 ible\, as it is to the feasts that mark the Paschal Mystery of Christ.\n\n
 We all need heroes. We all need someone in our lives who brings courage. W
 e all need to get to know how the Christian life looks at its best\, at it
 s most difficult\, at its most joyous.\n\nThe lesson is that we must keep 
 the human dimensions of the faith very much in mind and find in models fro
 m the past proof that daily chaos can be ordered and the ordinary transfig
 ured for us\, too.
DTSTART;TZID=America/New_York:20260618T000000
DTEND;TZID=America/New_York:20260618T235900
LOCATION:Chapter 14
SUMMARY:The Celebration of Vigils on the Anniversaries of Saints
END:VEVENT
END:VCALENDAR
